Workbook

Sheet Euros
A7: ACTIVIDADES GRATUITAS PARA TODA LA FAMILIA INLCUIDAS
A8: Tipo Habitación | C8: Duplex | D8: Dble Sup. | E8: Doble | F8: Apartamento | G8: Apartamento
C9: Suite | D9: /supletoria | E9: estándar | F9: 2 habitaciones | G9: 3 habitaciones
A10: Ocupacion recomendada | C10: 4-5 pax | D10: 2-3 pax | E10: 1-2 pax | F10: 4-6 pax | G10: 6-8 pax
A11: 11/07/14 a 02/08/14 | B11: A/D | C11: 103.5 | D11: 70.2 | E11: 49.5 | F11: S.A 99,00 | G11: S.A 134,10
B12: M/P | C12: 144 | D12: 90 | E12: 70.2
A13: 03/08/14 a 23/08/14 | B13: A/D | C13: 130.5 | D13: 86.4 | E13: 63 | F13: S.A 144,00 | G13: S.A 157,50
B14: M/P | C14: 171 | D14: 108 | E14: 81
A15: 24/08/14 a 30/08/14 | B15: A/D | C15: 103.5 | D15: 70.2 | E15: 49.5 | F15: S.A 99,00 | G15: S.A 134,10
B16: M/P | C16: 144 | D16: 90 | E16: 70.2
A17: 31/08/14 a 13/09/14 | B17: A/D | C17: 94.5 | D17: 61.2 | E17: 49.5 | F17: S.A 90,00 | G17: S.A 121,50
B18: M/P | C18: 135 | D18: 81 | E18: 70.2
A39: www.eirahotel.com informacion@eirahotel.com Tel 973 64 48 16
B40: Crta de Beret S/N Urbanización Tanau Baqueira Beret

Sheet Pounds
A1: Chalet Eira Summer Prices 2014
A2: Morning Activities included in the price
A4: Prices are PER ROOM and per night Arrive any night (minimum 3 night stay)
A5: Room Type | B5: Whole Chalet (Exclusive Use) | C5: Duplex Room (4 av'ble) | D5: Large Double Room (3 av'ble) | E5: Sm Dbl Room (1 av'ble) | F5: 3 bed Apartment (1 av'ble) | G5: 2 bed luxury apartment (2 av'ble)
A6: Recomended Occupancy (max in brackets) | B6: 27 (31) | C6: 4 (5) | D6: 2 (3) | E6: 1 (2) | F6: 6 (8) | G6: 4 (8)
A7: Board | B7: Half Board | C7: Half Board | D7: Half Board | E7: Half Board | F7: Self Catering | G7: Self Catering
A8: 41466 | B8: =SUM(Euros!#REF!)/'Exchange rate'!$C$3 -> #REF! | C8: =SUM(Euros!C12)/'Exchange rate'!$C$3 -> 125.21739 | D8: =SUM(Euros!D12)/'Exchange rate'!$C$3 -> 78.26087 | E8: =SUM(Euros!E12)/'Exchange rate'!$C$3 -> 61.043478 | F8: =SUM(Euros!F12)/'Exchange rate'!$C$3 -> 0 | G8: =SUM(Euros!G12)/'Exchange rate'!$C$3 -> 0
A9: 41468 | B9: =SUM(Euros!B12)/'Exchange rate'!$C$3 -> 0 | C9: =SUM(Euros!#REF!)/'Exchange rate'!$C$3 -> #REF! | D9: =SUM(Euros!#REF!)/'Exchange rate'!$C$3 -> #REF! | E9: =SUM(Euros!#REF!)/'Exchange rate'!$C$3 -> #REF! | F9: =SUM(Euros!#REF!)/'Exchange rate'!$C$3 -> #REF! | G9: =SUM(Euros!#REF!)/'Exchange rate'!$C$3 -> #REF!
A10: 41475 | B10: =SUM(Euros!B13)/'Exchange rate'!$C$3 -> 0 | C10: =SUM(Euros!C13)/'Exchange rate'!$C$3 -> 113.47826 | D10: =SUM(Euros!D13)/'Exchange rate'!$C$3 -> 75.130435 | E10: =SUM(Euros!E13)/'Exchange rate'!$C$3 -> 54.782609 | F10: =SUM(Euros!F13)/'Exchange rate'!$C$3 -> 0 | G10: =SUM(Euros!G13)/'Exchange rate'!$C$3 -> 0
A11: 41482 | B11: =SUM(Euros!B14)/'Exchange rate'!$C$3 -> 0 | C11: =SUM(Euros!C14)/'Exchange rate'!$C$3 -> 148.69565 | D11: =SUM(Euros!D14)/'Exchange rate'!$C$3 -> 93.913043 | E11: =SUM(Euros!E14)/'Exchange rate'!$C$3 -> 70.434783 | F11: =SUM(Euros!F14)/'Exchange rate'!$C$3 -> 0 | G11: =SUM(Euros!G14)/'Exchange rate'!$C$3 -> 0
A12: 41489 | B12: =SUM(Euros!#REF!)/'Exchange rate'!$C$3 -> #REF! | C12: =SUM(Euros!#REF!)/'Exchange rate'!$C$3 -> #REF! | D12: =SUM(Euros!#REF!)/'Exchange rate'!$C$3 -> #REF! | E12: =SUM(Euros!#REF!)/'Exchange rate'!$C$3 -> #REF! | F12: =SUM(Euros!#REF!)/'Exchange rate'!$C$3 -> #REF! | G12: =SUM(Euros!#REF!)/'Exchange rate'!$C$3 -> #REF!
A13: 41496 | B13: =SUM(Euros!B15)/'Exchange rate'!$C$3 -> 0 | C13: =SUM(Euros!C15)/'Exchange rate'!$C$3 -> 90 | D13: =SUM(Euros!D15)/'Exchange rate'!$C$3 -> 61.043478 | E13: =SUM(Euros!E15)/'Exchange rate'!$C$3 -> 43.043478 | F13: =SUM(Euros!F15)/'Exchange rate'!$C$3 -> 0 | G13: =SUM(Euros!G15)/'Exchange rate'!$C$3 -> 0
A14: 41503 | B14: =SUM(Euros!B16)/'Exchange rate'!$C$3 -> 0 | C14: =SUM(Euros!C16)/'Exchange rate'!$C$3 -> 125.21739 | D14: =SUM(Euros!D16)/'Exchange rate'!$C$3 -> 78.26087 | E14: =SUM(Euros!E16)/'Exchange rate'!$C$3 -> 61.043478 | F14: =SUM(Euros!F16)/'Exchange rate'!$C$3 -> 0 | G14: =SUM(Euros!G16)/'Exchange rate'!$C$3 -> 0
A15: 41510 | B15: =SUM(Euros!#REF!)/'Exchange rate'!$C$3 -> #REF! | C15: =SUM(Euros!#REF!)/'Exchange rate'!$C$3 -> #REF! | D15: =SUM(Euros!#REF!)/'Exchange rate'!$C$3 -> #REF! | E15: =SUM(Euros!#REF!)/'Exchange rate'!$C$3 -> #REF! | F15: =SUM(Euros!#REF!)/'Exchange rate'!$C$3 -> #REF! | G15: =SUM(Euros!#REF!)/'Exchange rate'!$C$3 -> #REF!
A16: 41517 | B16: =SUM(Euros!B17)/'Exchange rate'!$C$3 -> 0 | C16: =SUM(Euros!C17)/'Exchange rate'!$C$3 -> 82.173913 | D16: =SUM(Euros!D17)/'Exchange rate'!$C$3 -> 53.217391 | E16: =SUM(Euros!E17)/'Exchange rate'!$C$3 -> 43.043478 | F16: =SUM(Euros!F17)/'Exchange rate'!$C$3 -> 0 | G16: =SUM(Euros!G17)/'Exchange rate'!$C$3 -> 0
A17: 41524 | B17: =SUM(Euros!B18)/'Exchange rate'!$C$3 -> 0 | C17: =SUM(Euros!C18)/'Exchange rate'!$C$3 -> 117.3913 | D17: =SUM(Euros!D18)/'Exchange rate'!$C$3 -> 70.434783 | E17: =SUM(Euros!E18)/'Exchange rate'!$C$3 -> 61.043478 | F17: =SUM(Euros!F18)/'Exchange rate'!$C$3 -> 0 | G17: =SUM(Euros!G18)/'Exchange rate'!$C$3 -> 0
A18: Closed on Sunday 14/09/14

Sheet Exchange rate
B3: Exchange Rate | C3: 1.15
